BEGIN:VCALENDAR
VERSION:2.0
PRODID:-//Ex Novo Brewing Company - ECPv6.15.12.2//NONSGML v1.0//EN
CALSCALE:GREGORIAN
METHOD:PUBLISH
X-ORIGINAL-URL:https://exnovobrew.com
X-WR-CALDESC:Events for Ex Novo Brewing Company
REFRESH-INTERVAL;VALUE=DURATION:PT1H
X-Robots-Tag:noindex
X-PUBLISHED-TTL:PT1H
BEGIN:VTIMEZONE
TZID:America/Denver
BEGIN:DAYLIGHT
TZOFFSETFROM:-0700
TZOFFSETTO:-0600
TZNAME:MDT
DTSTART:20240310T090000
END:DAYLIGHT
BEGIN:STANDARD
TZOFFSETFROM:-0600
TZOFFSETTO:-0700
TZNAME:MST
DTSTART:20241103T080000
END:STANDARD
BEGIN:DAYLIGHT
TZOFFSETFROM:-0700
TZOFFSETTO:-0600
TZNAME:MDT
DTSTART:20250309T090000
END:DAYLIGHT
BEGIN:STANDARD
TZOFFSETFROM:-0600
TZOFFSETTO:-0700
TZNAME:MST
DTSTART:20251102T080000
END:STANDARD
BEGIN:DAYLIGHT
TZOFFSETFROM:-0700
TZOFFSETTO:-0600
TZNAME:MDT
DTSTART:20260308T090000
END:DAYLIGHT
BEGIN:STANDARD
TZOFFSETFROM:-0600
TZOFFSETTO:-0700
TZNAME:MST
DTSTART:20261101T080000
END:STANDARD
END:VTIMEZONE
BEGIN:VEVENT
DTSTART;TZID=America/Denver:20250606T113000
DTEND;TZID=America/Denver:20250606T160000
DTSTAMP:20260422T154740
CREATED:20250509T173310Z
LAST-MODIFIED:20250527T195533Z
UID:10004191-1749209400-1749225600@exnovobrew.com
SUMMARY:Pups & Pours
DESCRIPTION:Pups & Pours with NM Humane Society + RNDCFriday\, June 6 \nWe’re teaming up with the New Mexico Humane Society and RNDC for an afternoon of adorable pups and refreshing pours! \n🐾 Pet Adoptions: 11:30 AM – 2:00 PM🍸 Happy Hour @ The Bitter Nun: 2:00 – 4:00 PM \nCome meet some lovable adoptables\, then head upstairs to The Bitter Nun to kick off your weekend with a cocktail (or two). \n🎁 Entry to Happy Hour = a donation of pet food or toysWe’ll be collecting donations at the door to benefit pets at the Animal Humane New Mexico shelter. Your contribution helps make tails wag! \nSee you there!
URL:https://exnovobrew.com/event-detail/yappy-hour/
LOCATION:Albuquerque Taproom & Restaurant\, 701 Central Ave NW\, Albuquerque\, NM\, 87102\, United States
ATTACH;FMTTYPE=image/png:https://craftpeak-cooler-images.imgix.net/ex-novo-brewing-company/RNDC-Adopt-WEB-1.png?auto=compress%2Cformat&ixlib=php-3.3.1&s=44446b32c04a1c2b17e534544d8bed58
END:VEVENT
END:VCALENDAR